Package: canceR Version: 1.41.0 Command: /Library/Frameworks/R.framework/Resources/bin/R CMD build --keep-empty-dirs --no-resave-data canceR StartedAt: 2025-02-09 15:47:20 -0500 (Sun, 09 Feb 2025) EndedAt: 2025-02-09 15:47:57 -0500 (Sun, 09 Feb 2025) EllapsedTime: 36.4 seconds RetCode: 0 Status: OK PackageFile: canceR_1.41.0.tar.gz PackageFileSize: 31.46 MiB