Package: canceR Version: 1.41.0 Command: /Library/Frameworks/R.framework/Resources/bin/R CMD build --keep-empty-dirs --no-resave-data canceR StartedAt: 2025-02-09 16:09:42 -0500 (Sun, 09 Feb 2025) EndedAt: 2025-02-09 16:11:55 -0500 (Sun, 09 Feb 2025) EllapsedTime: 132.3 seconds RetCode: 0 Status: OK PackageFile: canceR_1.41.0.tar.gz PackageFileSize: 31.46 MiB