Package: canceR Version: 1.41.0 Command: /home/biocbuild/bbs-3.21-bioc/R/bin/R CMD build --keep-empty-dirs --no-resave-data canceR StartedAt: 2025-02-09 16:30:54 -0500 (Sun, 09 Feb 2025) EndedAt: 2025-02-09 16:32:25 -0500 (Sun, 09 Feb 2025) EllapsedTime: 91.1 seconds RetCode: 0 Status: OK PackageFile: canceR_1.41.0.tar.gz PackageFileSize: 31.46 MiB