Package: canceR Version: 1.41.0 Command: /home/biocbuild/bbs-3.21-bioc/R/bin/R CMD check --install=check:canceR.install-out.txt --library=/home/biocbuild/bbs-3.21-bioc/R/site-library --timings canceR_1.41.0.tar.gz StartedAt: 2025-02-04 20:36:18 -0500 (Tue, 04 Feb 2025) EndedAt: 2025-02-04 20:43:56 -0500 (Tue, 04 Feb 2025) EllapsedTime: 457.6 seconds RetCode: 0 Status: WARNINGS CheckDir: canceR.Rcheck Warnings: 1