Package: canceR Version: 1.41.0 Command: rm -rf canceR.buildbin-libdir && mkdir canceR.buildbin-libdir && E:\biocbuild\bbs-3.21-bioc\R\bin\R.exe CMD INSTALL --build --library=canceR.buildbin-libdir canceR_1.41.0.tar.gz StartedAt: 2025-02-10 07:22:28 -0500 (Mon, 10 Feb 2025) EndedAt: 2025-02-10 07:24:23 -0500 (Mon, 10 Feb 2025) EllapsedTime: 115.2 seconds RetCode: 0 Status: OK PackageFile: canceR_1.41.0.zip PackageFileSize: 14.91 MiB