Package: cancerclass Version: 1.51.0 Command: /Library/Frameworks/R.framework/Resources/bin/R CMD INSTALL cancerclass StartedAt: 2025-02-09 15:02:09 -0500 (Sun, 09 Feb 2025) EndedAt: 2025-02-09 15:02:12 -0500 (Sun, 09 Feb 2025) EllapsedTime: 2.8 seconds RetCode: 0 Status: OK