Package: cancerclass Version: 1.51.0 Command: /home/biocbuild/R/R/bin/R CMD build --keep-empty-dirs --no-resave-data cancerclass StartedAt: 2025-01-28 21:34:03 -0000 (Tue, 28 Jan 2025) EndedAt: 2025-01-28 21:34:37 -0000 (Tue, 28 Jan 2025) EllapsedTime: 34.0 seconds RetCode: 0 Status: OK PackageFile: cancerclass_1.51.0.tar.gz PackageFileSize: 1.519 MiB