Package: cancerclass Version: 1.51.0 Command: /Library/Frameworks/R.framework/Resources/bin/R CMD build --keep-empty-dirs --no-resave-data cancerclass StartedAt: 2025-02-04 16:06:59 -0500 (Tue, 04 Feb 2025) EndedAt: 2025-02-04 16:07:27 -0500 (Tue, 04 Feb 2025) EllapsedTime: 27.4 seconds RetCode: 0 Status: OK PackageFile: cancerclass_1.51.0.tar.gz PackageFileSize: 1.524 MiB