Package: cancerclass Version: 1.51.0 Command: /Library/Frameworks/R.framework/Resources/bin/R CMD INSTALL cancerclass StartedAt: 2025-02-09 15:05:29 -0500 (Sun, 09 Feb 2025) EndedAt: 2025-02-09 15:05:55 -0500 (Sun, 09 Feb 2025) EllapsedTime: 25.9 seconds RetCode: 0 Status: OK