Package: cancerclass Version: 1.51.0 Command: /home/biocbuild/bbs-3.21-bioc/R/bin/R CMD INSTALL cancerclass StartedAt: 2025-02-09 15:13:52 -0500 (Sun, 09 Feb 2025) EndedAt: 2025-02-09 15:13:58 -0500 (Sun, 09 Feb 2025) EllapsedTime: 5.5 seconds RetCode: 0 Status: OK