Package: cancerclass Version: 1.51.0 Command: rm -rf cancerclass.buildbin-libdir && mkdir cancerclass.buildbin-libdir && E:\biocbuild\bbs-3.21-bioc\R\bin\R.exe CMD INSTALL --build --library=cancerclass.buildbin-libdir cancerclass_1.51.0.tar.gz StartedAt: 2025-02-05 07:35:00 -0500 (Wed, 05 Feb 2025) EndedAt: 2025-02-05 07:35:41 -0500 (Wed, 05 Feb 2025) EllapsedTime: 40.6 seconds RetCode: 0 Status: OK PackageFile: cancerclass_1.51.0.zip PackageFileSize: 1.522 MiB