Package: cardelino Version: 1.9.0 Command: rm -rf cardelino.buildbin-libdir && mkdir cardelino.buildbin-libdir && /Users/biocbuild/BBS/utils/build-universal.sh cardelino_1.9.0.tar.gz /Library/Frameworks/R.framework/Resources/bin/R cardelino.buildbin-libdir StartedAt: 2025-02-04 22:10:10 -0500 (Tue, 04 Feb 2025) EndedAt: 2025-02-04 22:10:29 -0500 (Tue, 04 Feb 2025) EllapsedTime: 19.4 seconds RetCode: 0 Status: OK PackageFile: cardelino_1.9.0.tgz PackageFileSize: 3.839 MiB