Package: cardelino Version: 1.9.0 Command: /Library/Frameworks/R.framework/Resources/bin/R CMD build --keep-empty-dirs --no-resave-data cardelino StartedAt: 2025-02-04 15:47:31 -0500 (Tue, 04 Feb 2025) EndedAt: 2025-02-04 15:48:02 -0500 (Tue, 04 Feb 2025) EllapsedTime: 30.3 seconds RetCode: 0 Status: OK PackageFile: cardelino_1.9.0.tar.gz PackageFileSize: 3.705 MiB