Package: cardelino Version: 1.9.0 Command: /Library/Frameworks/R.framework/Resources/bin/R CMD check --install=check:cardelino.install-out.txt --library=/Library/Frameworks/R.framework/Resources/library --no-vignettes --timings cardelino_1.9.0.tar.gz StartedAt: 2025-02-04 19:23:11 -0500 (Tue, 04 Feb 2025) EndedAt: 2025-02-04 19:30:34 -0500 (Tue, 04 Feb 2025) EllapsedTime: 443.7 seconds RetCode: 0 Status: OK CheckDir: cardelino.Rcheck Warnings: 0