Package: cardelino Version: 1.9.0 Command: /home/biocbuild/bbs-3.21-bioc/R/bin/R CMD check --install=check:cardelino.install-out.txt --library=/home/biocbuild/bbs-3.21-bioc/R/site-library --timings cardelino_1.9.0.tar.gz StartedAt: 2025-02-04 20:37:01 -0500 (Tue, 04 Feb 2025) EndedAt: 2025-02-04 20:44:17 -0500 (Tue, 04 Feb 2025) EllapsedTime: 435.5 seconds RetCode: 0 Status: OK CheckDir: cardelino.Rcheck Warnings: 0