Package: cardelino Version: 1.9.0 Command: rm -rf cardelino.buildbin-libdir && mkdir cardelino.buildbin-libdir && E:\biocbuild\bbs-3.21-bioc\R\bin\R.exe CMD INSTALL --build --library=cardelino.buildbin-libdir cardelino_1.9.0.tar.gz StartedAt: 2025-02-10 07:22:32 -0500 (Mon, 10 Feb 2025) EndedAt: 2025-02-10 07:23:38 -0500 (Mon, 10 Feb 2025) EllapsedTime: 66.0 seconds RetCode: 0 Status: OK PackageFile: cardelino_1.9.0.zip PackageFileSize: 3.231 MiB