Package: categoryCompare Version: 1.51.0 Command: rm -rf categoryCompare.buildbin-libdir && mkdir categoryCompare.buildbin-libdir && /Users/biocbuild/BBS/utils/build-universal.sh categoryCompare_1.51.0.tar.gz /Library/Frameworks/R.framework/Resources/bin/R categoryCompare.buildbin-libdir StartedAt: 2025-02-12 22:13:27 -0500 (Wed, 12 Feb 2025) EndedAt: 2025-02-12 22:13:39 -0500 (Wed, 12 Feb 2025) EllapsedTime: 11.2 seconds RetCode: 0 Status: OK PackageFile: categoryCompare_1.51.0.tgz PackageFileSize: 2.556 MiB