Package: categoryCompare Version: 1.51.0 Command: /Library/Frameworks/R.framework/Resources/bin/R CMD check --install=check:categoryCompare.install-out.txt --library=/Library/Frameworks/R.framework/Resources/library --no-vignettes --timings categoryCompare_1.51.0.tar.gz StartedAt: 2025-02-09 18:24:57 -0500 (Sun, 09 Feb 2025) EndedAt: 2025-02-09 18:26:08 -0500 (Sun, 09 Feb 2025) EllapsedTime: 70.8 seconds RetCode: 0 Status: OK CheckDir: categoryCompare.Rcheck Warnings: 0