Package: categoryCompare Version: 1.51.0 Command: /Library/Frameworks/R.framework/Resources/bin/R CMD INSTALL categoryCompare StartedAt: 2025-02-09 15:20:43 -0500 (Sun, 09 Feb 2025) EndedAt: 2025-02-09 15:20:54 -0500 (Sun, 09 Feb 2025) EllapsedTime: 10.4 seconds RetCode: 0 Status: OK