Package: categoryCompare Version: 1.51.0 Command: rm -rf categoryCompare.buildbin-libdir && mkdir categoryCompare.buildbin-libdir && /Users/biocbuild/BBS/utils/build-universal.sh categoryCompare_1.51.0.tar.gz /Library/Frameworks/R.framework/Resources/bin/R categoryCompare.buildbin-libdir StartedAt: 2025-02-10 00:45:17 -0500 (Mon, 10 Feb 2025) EndedAt: 2025-02-10 00:45:58 -0500 (Mon, 10 Feb 2025) EllapsedTime: 40.4 seconds RetCode: 0 Status: OK PackageFile: categoryCompare_1.51.0.tgz PackageFileSize: 2.554 MiB