Package: categoryCompare Version: 1.51.0 Command: /Library/Frameworks/R.framework/Resources/bin/R CMD INSTALL categoryCompare StartedAt: 2025-02-09 15:33:44 -0500 (Sun, 09 Feb 2025) EndedAt: 2025-02-09 15:34:22 -0500 (Sun, 09 Feb 2025) EllapsedTime: 37.5 seconds RetCode: 0 Status: OK