Package: categoryCompare Version: 1.51.0 Command: /home/biocbuild/bbs-3.21-bioc/R/bin/R CMD check --install=check:categoryCompare.install-out.txt --library=/home/biocbuild/bbs-3.21-bioc/R/site-library --timings categoryCompare_1.51.0.tar.gz StartedAt: 2025-02-12 20:37:04 -0500 (Wed, 12 Feb 2025) EndedAt: 2025-02-12 20:42:20 -0500 (Wed, 12 Feb 2025) EllapsedTime: 316.4 seconds RetCode: 0 Status: OK CheckDir: categoryCompare.Rcheck Warnings: 0