Package: categoryCompare Version: 1.51.0 Command: /home/biocbuild/bbs-3.21-bioc/R/bin/R CMD INSTALL categoryCompare StartedAt: 2025-02-09 15:40:33 -0500 (Sun, 09 Feb 2025) EndedAt: 2025-02-09 15:41:00 -0500 (Sun, 09 Feb 2025) EllapsedTime: 26.9 seconds RetCode: 0 Status: OK