Package: categoryCompare Version: 1.51.0 Command: rm -rf categoryCompare.buildbin-libdir && mkdir categoryCompare.buildbin-libdir && E:\biocbuild\bbs-3.21-bioc\R\bin\R.exe CMD INSTALL --build --library=categoryCompare.buildbin-libdir categoryCompare_1.51.0.tar.gz StartedAt: 2025-02-10 07:23:00 -0500 (Mon, 10 Feb 2025) EndedAt: 2025-02-10 07:30:16 -0500 (Mon, 10 Feb 2025) EllapsedTime: 436.5 seconds RetCode: 0 Status: OK PackageFile: categoryCompare_1.51.0.zip PackageFileSize: 2.557 MiB