Package: categoryCompare Version: 1.51.0 Command: chmod a+r categoryCompare -R && E:\biocbuild\bbs-3.21-bioc\R\bin\R.exe CMD build --keep-empty-dirs --no-resave-data categoryCompare StartedAt: 2025-02-09 17:40:25 -0500 (Sun, 09 Feb 2025) EndedAt: 2025-02-09 17:44:47 -0500 (Sun, 09 Feb 2025) EllapsedTime: 262.0 seconds RetCode: 0 Status: OK PackageFile: categoryCompare_1.51.0.tar.gz PackageFileSize: 3.162 MiB