Package: categoryCompare Version: 1.51.0 Command: E:\biocbuild\bbs-3.21-bioc\R\bin\R.exe CMD INSTALL categoryCompare StartedAt: 2025-02-09 15:59:21 -0500 (Sun, 09 Feb 2025) EndedAt: 2025-02-09 16:02:44 -0500 (Sun, 09 Feb 2025) EllapsedTime: 203.3 seconds RetCode: 0 Status: OK