Package: cbaf Version: 1.29.0 Command: /home/biocbuild/R/R/bin/R CMD check --install=check:cbaf.install-out.txt --library=/home/biocbuild/R/R/site-library --no-vignettes --timings cbaf_1.29.0.tar.gz StartedAt: 2025-01-28 08:56:33 -0000 (Tue, 28 Jan 2025) EndedAt: 2025-01-28 09:03:24 -0000 (Tue, 28 Jan 2025) EllapsedTime: 411.3 seconds RetCode: 0 Status: WARNINGS CheckDir: cbaf.Rcheck Warnings: 5