Package: cbaf Version: 1.29.0 Command: rm -rf cbaf.buildbin-libdir && mkdir cbaf.buildbin-libdir && E:\biocbuild\bbs-3.21-bioc\R\bin\R.exe CMD INSTALL --build --library=cbaf.buildbin-libdir cbaf_1.29.0.tar.gz StartedAt: 2025-02-05 07:35:36 -0500 (Wed, 05 Feb 2025) EndedAt: 2025-02-05 07:36:34 -0500 (Wed, 05 Feb 2025) EllapsedTime: 58.1 seconds RetCode: 0 Status: OK PackageFile: cbaf_1.29.0.zip PackageFileSize: 905.7 KiB