Package: cbaf Version: 1.29.0 Command: E:\biocbuild\bbs-3.21-bioc\R\bin\R.exe CMD check --no-multiarch --install=check:cbaf.install-out.txt --library=E:\biocbuild\bbs-3.21-bioc\R\library --no-vignettes --timings cbaf_1.29.0.tar.gz StartedAt: 2025-02-04 23:50:06 -0500 (Tue, 04 Feb 2025) EndedAt: 2025-02-04 23:56:17 -0500 (Tue, 04 Feb 2025) EllapsedTime: 371.2 seconds RetCode: 0 Status: OK CheckDir: cbaf.Rcheck Warnings: 0