Package: cbaf Version: 1.29.0 Command: E:\biocbuild\bbs-3.21-bioc\R\bin\R.exe CMD INSTALL cbaf StartedAt: 2025-02-04 16:50:56 -0500 (Tue, 04 Feb 2025) EndedAt: 2025-02-04 16:51:54 -0500 (Tue, 04 Feb 2025) EllapsedTime: 58.0 seconds RetCode: 0 Status: OK