Package: ccmap Version: 1.33.0 Command: /Library/Frameworks/R.framework/Resources/bin/R CMD build --keep-empty-dirs --no-resave-data ccmap StartedAt: 2025-02-09 16:11:15 -0500 (Sun, 09 Feb 2025) EndedAt: 2025-02-09 16:11:32 -0500 (Sun, 09 Feb 2025) EllapsedTime: 17.1 seconds RetCode: 1 Status: ERROR PackageFile: None PackageFileSize: NA