Package: ccmap Version: 1.33.0 Command: /home/biocbuild/bbs-3.21-bioc/R/bin/R CMD INSTALL ccmap StartedAt: 2025-02-09 15:28:40 -0500 (Sun, 09 Feb 2025) EndedAt: 2025-02-09 15:28:56 -0500 (Sun, 09 Feb 2025) EllapsedTime: 15.4 seconds RetCode: 0 Status: OK