Package: ccmap Version: 1.33.0 Command: E:\biocbuild\bbs-3.21-bioc\R\bin\R.exe CMD check --no-multiarch --install=check:ccmap.install-out.txt --library=E:\biocbuild\bbs-3.21-bioc\R\library --no-vignettes --timings ccmap_1.33.0.tar.gz StartedAt: 2025-02-09 23:26:04 -0500 (Sun, 09 Feb 2025) EndedAt: 2025-02-09 23:29:18 -0500 (Sun, 09 Feb 2025) EllapsedTime: 194.2 seconds RetCode: 0 Status: WARNINGS CheckDir: ccmap.Rcheck Warnings: 1