Package: ccrepe Version: 1.43.0 Command: rm -rf ccrepe.buildbin-libdir && mkdir ccrepe.buildbin-libdir && /Users/biocbuild/BBS/utils/build-universal.sh ccrepe_1.43.0.tar.gz /Library/Frameworks/R.framework/Resources/bin/R ccrepe.buildbin-libdir StartedAt: 2025-02-09 22:08:36 -0500 (Sun, 09 Feb 2025) EndedAt: 2025-02-09 22:08:38 -0500 (Sun, 09 Feb 2025) EllapsedTime: 2.0 seconds RetCode: 0 Status: OK PackageFile: ccrepe_1.43.0.tgz PackageFileSize: 360.3 KiB