Package: ccrepe Version: 1.43.0 Command: /Library/Frameworks/R.framework/Resources/bin/R CMD check --install=check:ccrepe.install-out.txt --library=/Library/Frameworks/R.framework/Resources/library --no-vignettes --timings ccrepe_1.43.0.tar.gz StartedAt: 2025-02-09 18:26:08 -0500 (Sun, 09 Feb 2025) EndedAt: 2025-02-09 18:26:20 -0500 (Sun, 09 Feb 2025) EllapsedTime: 12.2 seconds RetCode: 0 Status: OK CheckDir: ccrepe.Rcheck Warnings: 0