Package: ccrepe Version: 1.43.0 Command: rm -rf ccrepe.buildbin-libdir && mkdir ccrepe.buildbin-libdir && /Users/biocbuild/BBS/utils/build-universal.sh ccrepe_1.43.0.tar.gz /Library/Frameworks/R.framework/Resources/bin/R ccrepe.buildbin-libdir StartedAt: 2025-02-05 00:31:56 -0500 (Wed, 05 Feb 2025) EndedAt: 2025-02-05 00:32:02 -0500 (Wed, 05 Feb 2025) EllapsedTime: 5.8 seconds RetCode: 0 Status: OK PackageFile: ccrepe_1.43.0.tgz PackageFileSize: 360 KiB