Package: ccrepe Version: 1.43.0 Command: /Library/Frameworks/R.framework/Resources/bin/R CMD build --keep-empty-dirs --no-resave-data ccrepe StartedAt: 2025-02-04 16:08:41 -0500 (Tue, 04 Feb 2025) EndedAt: 2025-02-04 16:08:59 -0500 (Tue, 04 Feb 2025) EllapsedTime: 18.3 seconds RetCode: 0 Status: OK PackageFile: ccrepe_1.43.0.tar.gz PackageFileSize: 304.1 KiB