Package: ccrepe Version: 1.43.0 Command: /home/biocbuild/bbs-3.21-bioc/R/bin/R CMD check --install=check:ccrepe.install-out.txt --library=/home/biocbuild/bbs-3.21-bioc/R/site-library --timings ccrepe_1.43.0.tar.gz StartedAt: 2025-02-09 20:43:34 -0500 (Sun, 09 Feb 2025) EndedAt: 2025-02-09 20:44:02 -0500 (Sun, 09 Feb 2025) EllapsedTime: 28.0 seconds RetCode: 0 Status: OK CheckDir: ccrepe.Rcheck Warnings: 0