Package: ccrepe Version: 1.43.0 Command: rm -rf ccrepe.buildbin-libdir && mkdir ccrepe.buildbin-libdir && E:\biocbuild\bbs-3.21-bioc\R\bin\R.exe CMD INSTALL --build --library=ccrepe.buildbin-libdir ccrepe_1.43.0.tar.gz StartedAt: 2025-02-05 07:36:18 -0500 (Wed, 05 Feb 2025) EndedAt: 2025-02-05 07:36:28 -0500 (Wed, 05 Feb 2025) EllapsedTime: 9.2 seconds RetCode: 0 Status: OK PackageFile: ccrepe_1.43.0.zip PackageFileSize: 365.7 KiB