Package: ceRNAnetsim Version: 1.19.0 Command: /Library/Frameworks/R.framework/Resources/bin/R CMD INSTALL ceRNAnetsim StartedAt: 2025-02-09 15:18:19 -0500 (Sun, 09 Feb 2025) EndedAt: 2025-02-09 15:18:22 -0500 (Sun, 09 Feb 2025) EllapsedTime: 3.2 seconds RetCode: 0 Status: OK