Package: ceRNAnetsim Version: 1.19.0 Command: /Library/Frameworks/R.framework/Resources/bin/R CMD build --keep-empty-dirs --no-resave-data ceRNAnetsim StartedAt: 2025-02-12 16:11:07 -0500 (Wed, 12 Feb 2025) EndedAt: 2025-02-12 16:16:32 -0500 (Wed, 12 Feb 2025) EllapsedTime: 324.9 seconds RetCode: 0 Status: OK PackageFile: ceRNAnetsim_1.19.0.tar.gz PackageFileSize: 3.054 MiB