Package: celda Version: 1.23.0 Command: rm -rf celda.buildbin-libdir && mkdir celda.buildbin-libdir && E:\biocbuild\bbs-3.21-bioc\R\bin\R.exe CMD INSTALL --build --library=celda.buildbin-libdir celda_1.23.0.tar.gz StartedAt: 2025-02-10 07:24:01 -0500 (Mon, 10 Feb 2025) EndedAt: 2025-02-10 07:26:40 -0500 (Mon, 10 Feb 2025) EllapsedTime: 159.1 seconds RetCode: 0 Status: OK PackageFile: celda_1.23.0.zip PackageFileSize: 2.683 MiB