Package: celda Version: 1.23.0 Command: chmod a+r celda -R && E:\biocbuild\bbs-3.21-bioc\R\bin\R.exe CMD build --keep-empty-dirs --no-resave-data celda StartedAt: 2025-02-09 17:42:22 -0500 (Sun, 09 Feb 2025) EndedAt: 2025-02-09 17:49:46 -0500 (Sun, 09 Feb 2025) EllapsedTime: 443.8 seconds RetCode: 0 Status: OK PackageFile: celda_1.23.0.tar.gz PackageFileSize: 1.427 MiB