Package: celda Version: 1.23.0 Command: E:\biocbuild\bbs-3.21-bioc\R\bin\R.exe CMD check --no-multiarch --install=check:celda.install-out.txt --library=E:\biocbuild\bbs-3.21-bioc\R\library --no-vignettes --timings celda_1.23.0.tar.gz StartedAt: 2025-02-09 23:27:46 -0500 (Sun, 09 Feb 2025) EndedAt: 2025-02-09 23:34:52 -0500 (Sun, 09 Feb 2025) EllapsedTime: 426.3 seconds RetCode: 1 Status: ERROR CheckDir: celda.Rcheck Warnings: NA