Package: cellity Version: 1.35.0 Command: /Library/Frameworks/R.framework/Resources/bin/R CMD INSTALL cellity StartedAt: 2025-02-10 15:10:08 -0500 (Mon, 10 Feb 2025) EndedAt: 2025-02-10 15:10:15 -0500 (Mon, 10 Feb 2025) EllapsedTime: 6.9 seconds RetCode: 0 Status: OK