Package: cellity Version: 1.35.0 Command: /home/biocbuild/bbs-3.21-bioc/R/bin/R CMD build --keep-empty-dirs --no-resave-data cellity StartedAt: 2025-02-09 16:33:45 -0500 (Sun, 09 Feb 2025) EndedAt: 2025-02-09 16:34:52 -0500 (Sun, 09 Feb 2025) EllapsedTime: 67.1 seconds RetCode: 0 Status: OK PackageFile: cellity_1.35.0.tar.gz PackageFileSize: 1.232 MiB