Package: cellity Version: 1.35.0 Command: /home/biocbuild/bbs-3.21-bioc/R/bin/R CMD check --install=check:cellity.install-out.txt --library=/home/biocbuild/bbs-3.21-bioc/R/site-library --timings cellity_1.35.0.tar.gz StartedAt: 2025-02-12 20:42:19 -0500 (Wed, 12 Feb 2025) EndedAt: 2025-02-12 20:45:42 -0500 (Wed, 12 Feb 2025) EllapsedTime: 202.3 seconds RetCode: 0 Status: OK CheckDir: cellity.Rcheck Warnings: 0