Package: cellity Version: 1.35.0 Command: rm -rf cellity.buildbin-libdir && mkdir cellity.buildbin-libdir && E:\biocbuild\bbs-3.21-bioc\R\bin\R.exe CMD INSTALL --build --library=cellity.buildbin-libdir cellity_1.35.0.tar.gz StartedAt: 2025-02-10 07:24:18 -0500 (Mon, 10 Feb 2025) EndedAt: 2025-02-10 07:24:50 -0500 (Mon, 10 Feb 2025) EllapsedTime: 31.3 seconds RetCode: 0 Status: OK PackageFile: cellity_1.35.0.zip PackageFileSize: 1.233 MiB