Package: cellity Version: 1.35.0 Command: E:\biocbuild\bbs-3.21-bioc\R\bin\R.exe CMD check --no-multiarch --install=check:cellity.install-out.txt --library=E:\biocbuild\bbs-3.21-bioc\R\library --no-vignettes --timings cellity_1.35.0.tar.gz StartedAt: 2025-02-09 23:28:23 -0500 (Sun, 09 Feb 2025) EndedAt: 2025-02-09 23:31:39 -0500 (Sun, 09 Feb 2025) EllapsedTime: 195.7 seconds RetCode: 0 Status: OK CheckDir: cellity.Rcheck Warnings: 0