Package: cellmigRation Version: 1.15.0 Command: rm -rf cellmigRation.buildbin-libdir && mkdir cellmigRation.buildbin-libdir && /Users/biocbuild/BBS/utils/build-universal.sh cellmigRation_1.15.0.tar.gz /Library/Frameworks/R.framework/Resources/bin/R cellmigRation.buildbin-libdir StartedAt: 2025-02-09 22:08:43 -0500 (Sun, 09 Feb 2025) EndedAt: 2025-02-09 22:08:50 -0500 (Sun, 09 Feb 2025) EllapsedTime: 7.2 seconds RetCode: 0 Status: OK PackageFile: cellmigRation_1.15.0.tgz PackageFileSize: 1.997 MiB